BEGIN:VCALENDAR
PRODID:-//eluceo/ical//2.0/EN
VERSION:2.0
CALSCALE:GREGORIAN
BEGIN:VEVENT
UID:event-446
DTSTAMP:20260423T072907Z
SUMMARY:Eerstejaarspizzaborrel 
DESCRIPTION:Op maandag 12 september vindt de Eerstejaarspizzaborrel plaats 
 in de Back &amp\; Fourth vanaf 19:30 uur. Tijdens deze avond kun jij van 
 gratis pizza genieten samen met je studiegenootjes. De inschrijvingen open
 en op dinsdag 6 september om 15:00 uur. Wees er snel bij\, want vol = vol!
  Aansluitend aan deze borrel begint om 22:00 uur een JSVU Borrel in diezel
 fde Back &amp\; Fourth. Zo kun jij de rest van de vereniging ook ontmoeten
 ! 
DTSTART:20220912T170000Z
DTEND:20220912T200000Z
LOCATION:Back & Fourth
END:VEVENT
BEGIN:VTIMEZONE
TZID:UTC
BEGIN:STANDARD
DTSTART:20220912T170000
TZNAME:UTC
TZOFFSETTO:+0000
TZOFFSETFROM:+0000
END:STANDARD
END:VTIMEZONE
END:VCALENDAR
