BEGIN:VCALENDAR
PRODID:-//eluceo/ical//2.0/EN
VERSION:2.0
CALSCALE:GREGORIAN
BEGIN:VEVENT
UID:event-685
DTSTAMP:20260424T132217Z
SUMMARY:Installatie ALV
DESCRIPTION:Op donderdag 10 oktober vindt de Installatie Algemene Ledenverg
 adering plaats in de senaatszaal van het Academiegebouw. Op deze avond wor
 den oude commissies uitgehamerd en worden nieuwe commissies ingeslagen. D
 it is de perfecte gelegenheid om alle nieuwe commissieleden te zien strale
 n  Uiteraard sluiten we deze avond feestelijk af met een borrel in De Vri
 enden! De eerste drankjes zijn op kosten van de JSVU.  
DTSTART:20241010T170000Z
DTEND:20241010T200000Z
LOCATION:Academiegebouw
END:VEVENT
BEGIN:VTIMEZONE
TZID:UTC
BEGIN:STANDARD
DTSTART:20241010T170000
TZNAME:UTC
TZOFFSETTO:+0000
TZOFFSETFROM:+0000
END:STANDARD
END:VTIMEZONE
END:VCALENDAR
