BEGIN:VCALENDAR
PRODID:-//eluceo/ical//2.0/EN
VERSION:2.0
CALSCALE:GREGORIAN
BEGIN:VEVENT
UID:event-838
DTSTAMP:20260424T143705Z
SUMMARY:Inschrijven Ouderejaars Commissies
DESCRIPTION:
DTSTART:20260423T070000Z
DTEND:20260528T100000Z
LOCATION:JSVU
END:VEVENT
BEGIN:VTIMEZONE
TZID:UTC
BEGIN:STANDARD
DTSTART:20260423T070000
TZNAME:UTC
TZOFFSETTO:+0000
TZOFFSETFROM:+0000
END:STANDARD
END:VTIMEZONE
END:VCALENDAR
